BEGIN:VCALENDAR
PRODID:-//github.com/ical-org/ical.net//NONSGML ical.net 4.0//EN
VERSION:2.0
BEGIN:VEVENT
DESCRIPTION:Teilnahmeoption \nHybridVeranstaltungsort \nOperngasse 6/6\, 1
 010 Wien
DTEND:20261014T170000
DTSTAMP:20260421T201945Z
DTSTART:20261014T123000
LOCATION:Operngasse 6/6\, 1010 Wien
SEQUENCE:0
SUMMARY:Pharma & KI-Regulierung in der EU: (14.10.2026)
UID:385c29e6-ad5c-4438-866f-759393c64ae8
END:VEVENT
END:VCALENDAR
