BEGIN:VCALENDAR
PRODID:-//github.com/ical-org/ical.net//NONSGML ical.net 4.0//EN
VERSION:2.0
BEGIN:VEVENT
DESCRIPTION:Teilnahmeoption \nHybridVeranstaltungsort \nOperngasse 6/6\, 1
 010 Wien
DTEND:20260429T123000
DTSTAMP:20260419T160300Z
DTSTART:20260429T090000
LOCATION:Operngasse 6/6\, 1010 Wien
SEQUENCE:0
SUMMARY:Vertragsgestaltung in der Pharmaindustrie: Rechtssicher\, praxisna
 h\, effektiv (29.04.2026)
UID:735510b7-9112-4440-a635-213f21a6fcae
END:VEVENT
END:VCALENDAR
