BEGIN:VCALENDAR
PRODID:-//github.com/ical-org/ical.net//NONSGML ical.net 4.0//EN
VERSION:2.0
BEGIN:VEVENT
DESCRIPTION:Teilnahmeoption \nHybridVeranstaltungsort \nOperngasse 6/6\, 1
 010 Wien
DTEND:20260611T170000
DTSTAMP:20260419T160300Z
DTSTART:20260611T090000
LOCATION:Operngasse 6/6\, 1010 Wien
SEQUENCE:0
SUMMARY:Zertifikatslehrgang Market Access for You - Insider Know-how & Bes
 t Practice\, Modul 3 (11.06.2026)
UID:d6db913b-ac05-47a3-b4ff-1a0cb10539e7
END:VEVENT
END:VCALENDAR
