BEGIN:VCALENDAR
PRODID:-//github.com/ical-org/ical.net//NONSGML ical.net 4.0//EN
VERSION:2.0
BEGIN:VEVENT
DESCRIPTION:
DTEND:20260914T181500
DTSTAMP:20260419T193824Z
DTSTART:20260914T163000
LOCATION:Online mit Microsoft Teams
SEQUENCE:0
SUMMARY:Fit für die Anerkennungsprüfung - Pharmareferent:innen Vorbereitun
 gskurs (14.09.2026)
UID:bd35a990-3113-48c0-8826-2e8631ad3975
END:VEVENT
END:VCALENDAR
