BEGIN:VCALENDAR
PRODID:-//github.com/ical-org/ical.net//NONSGML ical.net 4.0//EN
VERSION:2.0
BEGIN:VEVENT
DESCRIPTION:Teilnahmeoption \nHybridVeranstaltungsort \nOperngasse 6/6\, 1
 010 Wien
DTEND:20260904T150000
DTSTAMP:20260419T231310Z
DTSTART:20260904T140000
LOCATION:Operngasse 6/6\, 1010 Wien
SEQUENCE:0
SUMMARY:Fit für die Prüfung - Pharmareferent:innen Vorbereitungskurs (04.0
 9.2026)
UID:48656adf-039f-42fe-87d1-13b6e3a403a3
END:VEVENT
END:VCALENDAR
