BEGIN:VCALENDAR
PRODID:-//github.com/ical-org/ical.net//NONSGML ical.net 4.0//EN
VERSION:2.0
BEGIN:VEVENT
DESCRIPTION:Teilnahmeoption \nHybridVeranstaltungsort \nOperngasse 6/6\, 1
 010 Wien
DTEND:20260520T170000
DTSTAMP:20260421T085147Z
DTSTART:20260520T090000
LOCATION:Operngasse 6/6\, 1010 Wien
SEQUENCE:0
SUMMARY:Qualitätsmanagement (QM) verstehen: Einstieg in regulatorische Sic
 herheit und Effizienz (20.05.2026)
UID:47c9156d-f956-44a3-b53d-85de2b5d8848
END:VEVENT
END:VCALENDAR
